BEGIN:VCALENDAR
VERSION:2.0
PRODID:-//Ti Piace - ECPv6.15.20//NONSGML v1.0//EN
CALSCALE:GREGORIAN
METHOD:PUBLISH
X-WR-CALNAME:Ti Piace
X-ORIGINAL-URL:https://ti-piace.de
X-WR-CALDESC:Veranstaltungen für Ti Piace
REFRESH-INTERVAL;VALUE=DURATION:PT1H
X-Robots-Tag:noindex
X-PUBLISHED-TTL:PT1H
BEGIN:VTIMEZONE
TZID:UTC
BEGIN:STANDARD
TZOFFSETFROM:+0000
TZOFFSETTO:+0000
TZNAME:UTC
DTSTART:20250101T000000
END:STANDARD
END:VTIMEZONE
BEGIN:VEVENT
DTSTART;TZID=UTC:20260424T170000
DTEND;TZID=UTC:20260424T220000
DTSTAMP:20260424T101656
CREATED:20260309T134542Z
LAST-MODIFIED:20260309T134542Z
UID:2254-1777050000-1777068000@ti-piace.de
SUMMARY:Beauty_Abend mit Thea
DESCRIPTION:Lasst Euch von Thea Inspirieren und beraten in Sachen Beauty\, Kosmetik\, Frühlings Make up. Mit den Produkten von Mary Kay. \nAb 17.00 Uhr 25€ pro Pers. Bitte mit Anmeldung bei uns im ti piace. \nAlle Events ausser Live-Musik finden immer paralell im Lagerverkauf statt.
URL:https://ti-piace.de/veranstaltungen/beauty_abend-mit-thea
LOCATION:ti piace\, Mangoldstraße 38\, Vaihingen-Ensingen\, 71665
ATTACH;FMTTYPE=image/jpeg:https://ti-piace.de/wp-content/uploads/2026/03/shamblen-studios-xwM61TPMlYk-uns.jpg
END:VEVENT
END:VCALENDAR